BEGIN:VCALENDAR
VERSION:2.0
PRODID:spatie/icalendar-generator
NAME:Surgent's Audit Skills Training Level 1: Developing Critical Skills fo
 r Success in Public Accounting
X-WR-CALNAME:Surgent's Audit Skills Training Level 1: Developing Critical S
 kills for Success in Public Accounting
BEGIN:VTIMEZONE
TZID:America/Chicago
BEGIN:STANDARD
DTSTART:20261101T010000
TZOFFSETFROM:-0500
TZOFFSETTO:-0600
END:STANDARD
BEGIN:DAYLIGHT
DTSTART:20270314T010000
TZOFFSETFROM:-0600
TZOFFSETTO:-0500
END:DAYLIGHT
END:VTIMEZONE
BEGIN:VTIMEZONE
TZID:UTC
BEGIN:STANDARD
DTSTART:20250726T041127
TZOFFSETFROM:+0000
TZOFFSETTO:+0000
END:STANDARD
END:VTIMEZONE
BEGIN:VEVENT
UID:69e84a6fdbee4
DTSTAMP:20260422T041127Z
SUMMARY:Surgent's Audit Skills Training Level 1: Developing Critical Skills
  for Success in Public Accounting
URL:https://ms-cpa.org/catalog/events/4343747-surgents-audit-skills-trainin
 g-level-1-developing-critical-skills-for-success-in-public-accounting-2027
 -08-01
DTSTART;TZID=America/Chicago:20270108T090000
DTEND;TZID=America/Chicago:20270108T170000
END:VEVENT
END:VCALENDAR