BEGIN:VCALENDAR
VERSION:2.0
PRODID:spatie/icalendar-generator
NAME:Surgent's Essential Depreciation and Expensing Update
X-WR-CALNAME:Surgent's Essential Depreciation and Expensing Update
BEGIN:VTIMEZONE
TZID:America/Chicago
BEGIN:STANDARD
DTSTART:20261101T010000
TZOFFSETFROM:-0500
TZOFFSETTO:-0600
END:STANDARD
BEGIN:DAYLIGHT
DTSTART:20270314T010000
TZOFFSETFROM:-0600
TZOFFSETTO:-0500
END:DAYLIGHT
END:VTIMEZONE
BEGIN:VTIMEZONE
TZID:UTC
BEGIN:STANDARD
DTSTART:20250726T035724
TZOFFSETFROM:+0000
TZOFFSETTO:+0000
END:STANDARD
END:VTIMEZONE
BEGIN:VEVENT
UID:69e847243cca0
DTSTAMP:20260422T035724Z
SUMMARY:Surgent's Essential Depreciation and Expensing Update
URL:https://ms-cpa.org/catalog/events/4343713-surgents-essential-depreciati
 on-and-expensing-update-2027-07-01
DTSTART;TZID=America/Chicago:20270107T130000
DTEND;TZID=America/Chicago:20270107T170000
END:VEVENT
END:VCALENDAR