BEGIN:VCALENDAR
VERSION:2.0
PRODID:spatie/icalendar-generator
NAME:Surgent's Simply Auditing Not-for-Profits Efficiently
X-WR-CALNAME:Surgent's Simply Auditing Not-for-Profits Efficiently
BEGIN:VTIMEZONE
TZID:America/Chicago
BEGIN:STANDARD
DTSTART:20261101T010000
TZOFFSETFROM:-0500
TZOFFSETTO:-0600
END:STANDARD
BEGIN:DAYLIGHT
DTSTART:20270314T010000
TZOFFSETFROM:-0600
TZOFFSETTO:-0500
END:DAYLIGHT
END:VTIMEZONE
BEGIN:VTIMEZONE
TZID:UTC
BEGIN:STANDARD
DTSTART:20250726T034732
TZOFFSETFROM:+0000
TZOFFSETTO:+0000
END:STANDARD
END:VTIMEZONE
BEGIN:VEVENT
UID:69e844d49d6e0
DTSTAMP:20260422T034732Z
SUMMARY:Surgent's Simply Auditing Not-for-Profits Efficiently
URL:https://ms-cpa.org/catalog/events/4343668-surgents-simply-auditing-not-
 for-profits-efficiently-2027-07-01
DTSTART;TZID=America/Chicago:20270107T080000
DTEND;TZID=America/Chicago:20270107T120000
END:VEVENT
END:VCALENDAR