BEGIN:VCALENDAR
VERSION:2.0
PRODID:spatie/icalendar-generator
NAME:Surgent's Applying the Yellow Book to a Financial Statement Audit
X-WR-CALNAME:Surgent's Applying the Yellow Book to a Financial Statement Au
 dit
BEGIN:VTIMEZONE
TZID:America/Chicago
BEGIN:STANDARD
DTSTART:20261101T010000
TZOFFSETFROM:-0500
TZOFFSETTO:-0600
END:STANDARD
BEGIN:DAYLIGHT
DTSTART:20270314T010000
TZOFFSETFROM:-0600
TZOFFSETTO:-0500
END:DAYLIGHT
END:VTIMEZONE
BEGIN:VTIMEZONE
TZID:UTC
BEGIN:STANDARD
DTSTART:20250726T035208
TZOFFSETFROM:+0000
TZOFFSETTO:+0000
END:STANDARD
END:VTIMEZONE
BEGIN:VEVENT
UID:69e845e8903c9
DTSTAMP:20260422T035208Z
SUMMARY:Surgent's Applying the Yellow Book to a Financial Statement Audit
URL:https://ms-cpa.org/catalog/events/4343642-surgents-applying-the-yellow-
 book-to-a-financial-statement-audit-2027-07-01
DTSTART;TZID=America/Chicago:20270107T123000
DTEND;TZID=America/Chicago:20270107T163000
END:VEVENT
END:VCALENDAR