BEGIN:VCALENDAR
VERSION:2.0
PRODID:spatie/icalendar-generator
NAME:Surgent's Key Partnership and S Corporation Tax Planning Strategies
X-WR-CALNAME:Surgent's Key Partnership and S Corporation Tax Planning Strat
 egies
BEGIN:VTIMEZONE
TZID:America/Chicago
BEGIN:STANDARD
DTSTART:20261101T010000
TZOFFSETFROM:-0500
TZOFFSETTO:-0600
END:STANDARD
BEGIN:DAYLIGHT
DTSTART:20270314T010000
TZOFFSETFROM:-0600
TZOFFSETTO:-0500
END:DAYLIGHT
END:VTIMEZONE
BEGIN:VTIMEZONE
TZID:UTC
BEGIN:STANDARD
DTSTART:20250726T040100
TZOFFSETFROM:+0000
TZOFFSETTO:+0000
END:STANDARD
END:VTIMEZONE
BEGIN:VEVENT
UID:69e847fcc7c5c
DTSTAMP:20260422T040100Z
SUMMARY:Surgent's Key Partnership and S Corporation Tax Planning Strategies
URL:https://ms-cpa.org/catalog/events/4343593-surgents-key-partnership-and-
 s-corporation-tax-planning-strategies-2027-07-01
DTSTART;TZID=America/Chicago:20270107T090000
DTEND;TZID=America/Chicago:20270107T130000
END:VEVENT
END:VCALENDAR