BEGIN:VCALENDAR
VERSION:2.0
PRODID:spatie/icalendar-generator
NAME:Surgent's Workplace Harassment: How to Prevent Harassment and Reduce L
 iability Risks in Today’s Changing Environment
X-WR-CALNAME:Surgent's Workplace Harassment: How to Prevent Harassment and 
 Reduce Liability Risks in Today’s Changing Environment
BEGIN:VTIMEZONE
TZID:America/Chicago
BEGIN:STANDARD
DTSTART:20261101T010000
TZOFFSETFROM:-0500
TZOFFSETTO:-0600
END:STANDARD
BEGIN:DAYLIGHT
DTSTART:20270314T010000
TZOFFSETFROM:-0600
TZOFFSETTO:-0500
END:DAYLIGHT
END:VTIMEZONE
BEGIN:VTIMEZONE
TZID:UTC
BEGIN:STANDARD
DTSTART:20250726T061720
TZOFFSETFROM:+0000
TZOFFSETTO:+0000
END:STANDARD
END:VTIMEZONE
BEGIN:VEVENT
UID:69e867f020842
DTSTAMP:20260422T061720Z
SUMMARY:Surgent's Workplace Harassment: How to Prevent Harassment and Reduc
 e Liability Risks in Today’s Changing Environment
URL:https://ms-cpa.org/catalog/events/4343559-surgents-workplace-harassment
 -how-to-prevent-harassment-and-reduce-liability-risks-in-todays-changing-e
 nvironment-2027-06-01
DTSTART;TZID=America/Chicago:20270106T140000
DTEND;TZID=America/Chicago:20270106T160000
END:VEVENT
END:VCALENDAR