BEGIN:VCALENDAR
VERSION:2.0
PRODID:spatie/icalendar-generator
NAME:Surgent's Understanding Partnership Taxation: Types of Basis\, Contrib
 utions\, and Distributions
X-WR-CALNAME:Surgent's Understanding Partnership Taxation: Types of Basis\,
  Contributions\, and Distributions
BEGIN:VTIMEZONE
TZID:America/Chicago
BEGIN:STANDARD
DTSTART:20261101T010000
TZOFFSETFROM:-0500
TZOFFSETTO:-0600
END:STANDARD
BEGIN:DAYLIGHT
DTSTART:20270314T010000
TZOFFSETFROM:-0600
TZOFFSETTO:-0500
END:DAYLIGHT
END:VTIMEZONE
BEGIN:VTIMEZONE
TZID:UTC
BEGIN:STANDARD
DTSTART:20250726T040303
TZOFFSETFROM:+0000
TZOFFSETTO:+0000
END:STANDARD
END:VTIMEZONE
BEGIN:VEVENT
UID:69e84877c0311
DTSTAMP:20260422T040303Z
SUMMARY:Surgent's Understanding Partnership Taxation: Types of Basis\, Cont
 ributions\, and Distributions
URL:https://ms-cpa.org/catalog/events/4343529-surgents-understanding-partne
 rship-taxation-types-of-basis-contributions-and-distributions-2027-06-01
DTSTART;TZID=America/Chicago:20270106T080000
DTEND;TZID=America/Chicago:20270106T120000
END:VEVENT
END:VCALENDAR