BEGIN:VCALENDAR
VERSION:2.0
PRODID:spatie/icalendar-generator
NAME:Surgent's Partnership and LLC Core Tax Issues From Formation Through L
 iquidation
X-WR-CALNAME:Surgent's Partnership and LLC Core Tax Issues From Formation T
 hrough Liquidation
BEGIN:VTIMEZONE
TZID:America/Chicago
BEGIN:STANDARD
DTSTART:20261101T010000
TZOFFSETFROM:-0500
TZOFFSETTO:-0600
END:STANDARD
BEGIN:DAYLIGHT
DTSTART:20270314T010000
TZOFFSETFROM:-0600
TZOFFSETTO:-0500
END:DAYLIGHT
END:VTIMEZONE
BEGIN:VTIMEZONE
TZID:UTC
BEGIN:STANDARD
DTSTART:20250726T035637
TZOFFSETFROM:+0000
TZOFFSETTO:+0000
END:STANDARD
END:VTIMEZONE
BEGIN:VEVENT
UID:69e846f5f2fae
DTSTAMP:20260422T035637Z
SUMMARY:Surgent's Partnership and LLC Core Tax Issues From Formation Throug
 h Liquidation
URL:https://ms-cpa.org/catalog/events/4343493-surgents-partnership-and-llc-
 core-tax-issues-from-formation-through-liquidation-2027-06-01
DTSTART;TZID=America/Chicago:20270106T090000
DTEND;TZID=America/Chicago:20270106T170000
END:VEVENT
END:VCALENDAR