BEGIN:VCALENDAR
VERSION:2.0
PRODID:spatie/icalendar-generator
NAME:Surgent's The Complete Guide to Payroll Taxes and 1099 Issues
X-WR-CALNAME:Surgent's The Complete Guide to Payroll Taxes and 1099 Issues
BEGIN:VTIMEZONE
TZID:America/Chicago
BEGIN:STANDARD
DTSTART:20261101T010000
TZOFFSETFROM:-0500
TZOFFSETTO:-0600
END:STANDARD
BEGIN:DAYLIGHT
DTSTART:20270314T010000
TZOFFSETFROM:-0600
TZOFFSETTO:-0500
END:DAYLIGHT
END:VTIMEZONE
BEGIN:VTIMEZONE
TZID:UTC
BEGIN:STANDARD
DTSTART:20250726T040115
TZOFFSETFROM:+0000
TZOFFSETTO:+0000
END:STANDARD
END:VTIMEZONE
BEGIN:VEVENT
UID:69e8480b82996
DTSTAMP:20260422T040115Z
SUMMARY:Surgent's The Complete Guide to Payroll Taxes and 1099 Issues
URL:https://ms-cpa.org/catalog/events/4343453-surgents-the-complete-guide-t
 o-payroll-taxes-and-1099-issues-2027-06-01
DTSTART;TZID=America/Chicago:20270106T080000
DTEND;TZID=America/Chicago:20270106T160000
END:VEVENT
END:VCALENDAR