BEGIN:VCALENDAR
VERSION:2.0
PRODID:spatie/icalendar-generator
NAME:Surgent's Federal Tax Update
X-WR-CALNAME:Surgent's Federal Tax Update
BEGIN:VTIMEZONE
TZID:America/Chicago
BEGIN:STANDARD
DTSTART:20261101T010000
TZOFFSETFROM:-0500
TZOFFSETTO:-0600
END:STANDARD
BEGIN:DAYLIGHT
DTSTART:20270314T010000
TZOFFSETFROM:-0600
TZOFFSETTO:-0500
END:DAYLIGHT
END:VTIMEZONE
BEGIN:VTIMEZONE
TZID:UTC
BEGIN:STANDARD
DTSTART:20250726T035500
TZOFFSETFROM:+0000
TZOFFSETTO:+0000
END:STANDARD
END:VTIMEZONE
BEGIN:VEVENT
UID:69e8469403d4a
DTSTAMP:20260422T035500Z
SUMMARY:Surgent's Federal Tax Update
URL:https://ms-cpa.org/catalog/events/4343397-surgents-federal-tax-update-2
 027-06-01
DTSTART;TZID=America/Chicago:20270106T120000
DTEND;TZID=America/Chicago:20270106T160000
END:VEVENT
END:VCALENDAR