BEGIN:VCALENDAR
VERSION:2.0
PRODID:spatie/icalendar-generator
NAME:Surgent's Gaining a Competitive Advantage: Critical Skills for CFOs an
 d Controllers
X-WR-CALNAME:Surgent's Gaining a Competitive Advantage: Critical Skills for
  CFOs and Controllers
BEGIN:VTIMEZONE
TZID:America/Chicago
BEGIN:STANDARD
DTSTART:20261101T010000
TZOFFSETFROM:-0500
TZOFFSETTO:-0600
END:STANDARD
BEGIN:DAYLIGHT
DTSTART:20270314T010000
TZOFFSETFROM:-0600
TZOFFSETTO:-0500
END:DAYLIGHT
END:VTIMEZONE
BEGIN:VTIMEZONE
TZID:UTC
BEGIN:STANDARD
DTSTART:20250726T035500
TZOFFSETFROM:+0000
TZOFFSETTO:+0000
END:STANDARD
END:VTIMEZONE
BEGIN:VEVENT
UID:69e8469445214
DTSTAMP:20260422T035500Z
SUMMARY:Surgent's Gaining a Competitive Advantage: Critical Skills for CFOs
  and Controllers
URL:https://ms-cpa.org/catalog/events/4343245-surgents-gaining-a-competitiv
 e-advantage-critical-skills-for-cfos-and-controllers-2027-05-01
DTSTART;TZID=America/Chicago:20270105T080000
DTEND;TZID=America/Chicago:20270105T120000
END:VEVENT
END:VCALENDAR