BEGIN:VCALENDAR
VERSION:2.0
PRODID:spatie/icalendar-generator
NAME:Surgent's Shades Of Gray – Practicing Before The Internal Revenue Se
 rvice – Circular 230 –Current State
X-WR-CALNAME:Surgent's Shades Of Gray – Practicing Before The Internal Re
 venue Service – Circular 230 –Current State
BEGIN:VTIMEZONE
TZID:America/Chicago
BEGIN:STANDARD
DTSTART:20261101T010000
TZOFFSETFROM:-0500
TZOFFSETTO:-0600
END:STANDARD
BEGIN:DAYLIGHT
DTSTART:20270314T010000
TZOFFSETFROM:-0600
TZOFFSETTO:-0500
END:DAYLIGHT
END:VTIMEZONE
BEGIN:VTIMEZONE
TZID:UTC
BEGIN:STANDARD
DTSTART:20250726T035917
TZOFFSETFROM:+0000
TZOFFSETTO:+0000
END:STANDARD
END:VTIMEZONE
BEGIN:VEVENT
UID:69e847957a2df
DTSTAMP:20260422T035917Z
SUMMARY:Surgent's Shades Of Gray – Practicing Before The Internal Revenue
  Service – Circular 230 –Current State
URL:https://ms-cpa.org/catalog/events/4343107-surgents-shades-of-gray-pract
 icing-before-the-internal-revenue-service-circular-230-current-state-2027-
 04-01
DTSTART;TZID=America/Chicago:20270104T120000
DTEND;TZID=America/Chicago:20270104T140000
END:VEVENT
END:VCALENDAR