BEGIN:VCALENDAR
VERSION:2.0
PRODID:spatie/icalendar-generator
NAME:Surgent's Employer's Handbook: Legal\, Tax\, and Health Care Issues
X-WR-CALNAME:Surgent's Employer's Handbook: Legal\, Tax\, and Health Care I
 ssues
BEGIN:VTIMEZONE
TZID:America/Chicago
BEGIN:STANDARD
DTSTART:20261101T010000
TZOFFSETFROM:-0500
TZOFFSETTO:-0600
END:STANDARD
BEGIN:DAYLIGHT
DTSTART:20270314T010000
TZOFFSETFROM:-0600
TZOFFSETTO:-0500
END:DAYLIGHT
END:VTIMEZONE
BEGIN:VTIMEZONE
TZID:UTC
BEGIN:STANDARD
DTSTART:20250726T035943
TZOFFSETFROM:+0000
TZOFFSETTO:+0000
END:STANDARD
END:VTIMEZONE
BEGIN:VEVENT
UID:69e847af936ca
DTSTAMP:20260422T035943Z
SUMMARY:Surgent's Employer's Handbook: Legal\, Tax\, and Health Care Issues
URL:https://ms-cpa.org/catalog/events/4342215-surgents-employers-handbook-l
 egal-tax-and-health-care-issues-2027-27-04
DTSTART;TZID=America/Chicago:20270427T080000
DTEND;TZID=America/Chicago:20270427T160000
END:VEVENT
END:VCALENDAR