BEGIN:VCALENDAR
VERSION:2.0
PRODID:spatie/icalendar-generator
NAME:Surgent's A Guide to the 401(k): Concepts and Strategies
X-WR-CALNAME:Surgent's A Guide to the 401(k): Concepts and Strategies
BEGIN:VTIMEZONE
TZID:America/Chicago
BEGIN:STANDARD
DTSTART:20261101T010000
TZOFFSETFROM:-0500
TZOFFSETTO:-0600
END:STANDARD
BEGIN:DAYLIGHT
DTSTART:20270314T010000
TZOFFSETFROM:-0600
TZOFFSETTO:-0500
END:DAYLIGHT
END:VTIMEZONE
BEGIN:VTIMEZONE
TZID:UTC
BEGIN:STANDARD
DTSTART:20250726T035805
TZOFFSETFROM:+0000
TZOFFSETTO:+0000
END:STANDARD
END:VTIMEZONE
BEGIN:VEVENT
UID:69e8474d540c9
DTSTAMP:20260422T035805Z
SUMMARY:Surgent's A Guide to the 401(k): Concepts and Strategies
URL:https://ms-cpa.org/catalog/events/4342179-surgents-a-guide-to-the-401k-
 concepts-and-strategies-2027-27-04
DTSTART;TZID=America/Chicago:20270427T130000
DTEND;TZID=America/Chicago:20270427T150000
END:VEVENT
END:VCALENDAR