BEGIN:VCALENDAR
VERSION:2.0
PRODID:spatie/icalendar-generator
NAME:Surgent's Tax Reporting for Executive Compensation
X-WR-CALNAME:Surgent's Tax Reporting for Executive Compensation
BEGIN:VTIMEZONE
TZID:America/Chicago
BEGIN:STANDARD
DTSTART:20261101T010000
TZOFFSETFROM:-0500
TZOFFSETTO:-0600
END:STANDARD
BEGIN:DAYLIGHT
DTSTART:20270314T010000
TZOFFSETFROM:-0600
TZOFFSETTO:-0500
END:DAYLIGHT
END:VTIMEZONE
BEGIN:VTIMEZONE
TZID:UTC
BEGIN:STANDARD
DTSTART:20250726T035413
TZOFFSETFROM:+0000
TZOFFSETTO:+0000
END:STANDARD
END:VTIMEZONE
BEGIN:VEVENT
UID:69e8466544ca0
DTSTAMP:20260422T035413Z
SUMMARY:Surgent's Tax Reporting for Executive Compensation
URL:https://ms-cpa.org/catalog/events/4342050-surgents-tax-reporting-for-ex
 ecutive-compensation-2027-26-04
DTSTART;TZID=America/Chicago:20270426T130000
DTEND;TZID=America/Chicago:20270426T150000
END:VEVENT
END:VCALENDAR