BEGIN:VCALENDAR
VERSION:2.0
PRODID:spatie/icalendar-generator
NAME:Surgent's Reasonable Suspicion
X-WR-CALNAME:Surgent's Reasonable Suspicion
BEGIN:VTIMEZONE
TZID:America/Chicago
BEGIN:STANDARD
DTSTART:20261101T010000
TZOFFSETFROM:-0500
TZOFFSETTO:-0600
END:STANDARD
BEGIN:DAYLIGHT
DTSTART:20270314T010000
TZOFFSETFROM:-0600
TZOFFSETTO:-0500
END:DAYLIGHT
END:VTIMEZONE
BEGIN:VTIMEZONE
TZID:UTC
BEGIN:STANDARD
DTSTART:20250726T034957
TZOFFSETFROM:+0000
TZOFFSETTO:+0000
END:STANDARD
END:VTIMEZONE
BEGIN:VEVENT
UID:69e84565bfb30
DTSTAMP:20260422T034957Z
SUMMARY:Surgent's Reasonable Suspicion
URL:https://ms-cpa.org/catalog/events/4341883-surgents-reasonable-suspicion
 -2027-22-04
DTSTART;TZID=America/Chicago:20270422T130000
DTEND;TZID=America/Chicago:20270422T140000
END:VEVENT
END:VCALENDAR