BEGIN:VCALENDAR
VERSION:2.0
PRODID:spatie/icalendar-generator
NAME:Surgent's Use the Data Model to Build More Powerful PivotTables
X-WR-CALNAME:Surgent's Use the Data Model to Build More Powerful PivotTable
 s
BEGIN:VTIMEZONE
TZID:America/Chicago
BEGIN:STANDARD
DTSTART:20261101T010000
TZOFFSETFROM:-0500
TZOFFSETTO:-0600
END:STANDARD
BEGIN:DAYLIGHT
DTSTART:20270314T010000
TZOFFSETFROM:-0600
TZOFFSETTO:-0500
END:DAYLIGHT
END:VTIMEZONE
BEGIN:VTIMEZONE
TZID:UTC
BEGIN:STANDARD
DTSTART:20250726T035506
TZOFFSETFROM:+0000
TZOFFSETTO:+0000
END:STANDARD
END:VTIMEZONE
BEGIN:VEVENT
UID:69e8469ab614d
DTSTAMP:20260422T035506Z
SUMMARY:Surgent's Use the Data Model to Build More Powerful PivotTables
URL:https://ms-cpa.org/catalog/events/4341802-surgents-use-the-data-model-t
 o-build-more-powerful-pivottables-2027-22-04
DTSTART;TZID=America/Chicago:20270422T110000
DTEND;TZID=America/Chicago:20270422T130000
END:VEVENT
END:VCALENDAR