BEGIN:VCALENDAR
VERSION:2.0
PRODID:spatie/icalendar-generator
NAME:Surgent's Contract Law for Accounting and Finance Professionals
X-WR-CALNAME:Surgent's Contract Law for Accounting and Finance Professional
 s
BEGIN:VTIMEZONE
TZID:America/Chicago
BEGIN:STANDARD
DTSTART:20261101T010000
TZOFFSETFROM:-0500
TZOFFSETTO:-0600
END:STANDARD
BEGIN:DAYLIGHT
DTSTART:20270314T010000
TZOFFSETFROM:-0600
TZOFFSETTO:-0500
END:DAYLIGHT
END:VTIMEZONE
BEGIN:VTIMEZONE
TZID:UTC
BEGIN:STANDARD
DTSTART:20250726T040115
TZOFFSETFROM:+0000
TZOFFSETTO:+0000
END:STANDARD
END:VTIMEZONE
BEGIN:VEVENT
UID:69e8480b29d8d
DTSTAMP:20260422T040115Z
SUMMARY:Surgent's Contract Law for Accounting and Finance Professionals
URL:https://ms-cpa.org/catalog/events/4341746-surgents-contract-law-for-acc
 ounting-and-finance-professionals-2027-22-04
DTSTART;TZID=America/Chicago:20270422T090000
DTEND;TZID=America/Chicago:20270422T110000
END:VEVENT
END:VCALENDAR