BEGIN:VCALENDAR
VERSION:2.0
PRODID:spatie/icalendar-generator
NAME:Surgent's Virtual Currency: Keeping Up with the Tax Code
X-WR-CALNAME:Surgent's Virtual Currency: Keeping Up with the Tax Code
BEGIN:VTIMEZONE
TZID:America/Chicago
BEGIN:STANDARD
DTSTART:20261101T010000
TZOFFSETFROM:-0500
TZOFFSETTO:-0600
END:STANDARD
BEGIN:DAYLIGHT
DTSTART:20270314T010000
TZOFFSETFROM:-0600
TZOFFSETTO:-0500
END:DAYLIGHT
END:VTIMEZONE
BEGIN:VTIMEZONE
TZID:UTC
BEGIN:STANDARD
DTSTART:20250726T035306
TZOFFSETFROM:+0000
TZOFFSETTO:+0000
END:STANDARD
END:VTIMEZONE
BEGIN:VEVENT
UID:69e84622e6bd7
DTSTAMP:20260422T035306Z
SUMMARY:Surgent's Virtual Currency: Keeping Up with the Tax Code
URL:https://ms-cpa.org/catalog/events/4341699-surgents-virtual-currency-kee
 ping-up-with-the-tax-code-2027-21-04
DTSTART;TZID=America/Chicago:20270421T090000
DTEND;TZID=America/Chicago:20270421T110000
END:VEVENT
END:VCALENDAR