BEGIN:VCALENDAR
VERSION:2.0
PRODID:spatie/icalendar-generator
NAME:Surgent's Review and Analysis of Crucial OBBBA Changes
X-WR-CALNAME:Surgent's Review and Analysis of Crucial OBBBA Changes
BEGIN:VTIMEZONE
TZID:America/Chicago
BEGIN:STANDARD
DTSTART:20261101T010000
TZOFFSETFROM:-0500
TZOFFSETTO:-0600
END:STANDARD
BEGIN:DAYLIGHT
DTSTART:20270314T010000
TZOFFSETFROM:-0600
TZOFFSETTO:-0500
END:DAYLIGHT
END:VTIMEZONE
BEGIN:VTIMEZONE
TZID:UTC
BEGIN:STANDARD
DTSTART:20250726T035719
TZOFFSETFROM:+0000
TZOFFSETTO:+0000
END:STANDARD
END:VTIMEZONE
BEGIN:VEVENT
UID:69e8471f69644
DTSTAMP:20260422T035719Z
SUMMARY:Surgent's Review and Analysis of Crucial OBBBA Changes
URL:https://ms-cpa.org/catalog/events/4341276-surgents-review-and-analysis-
 of-crucial-obbba-changes-2027-16-04
DTSTART;TZID=America/Chicago:20270416T120000
DTEND;TZID=America/Chicago:20270416T140000
END:VEVENT
END:VCALENDAR