BEGIN:VCALENDAR
VERSION:2.0
PRODID:spatie/icalendar-generator
NAME:Surgent's Exploring Business Valuation Fundamentals
X-WR-CALNAME:Surgent's Exploring Business Valuation Fundamentals
BEGIN:VTIMEZONE
TZID:America/Chicago
BEGIN:STANDARD
DTSTART:20261101T010000
TZOFFSETFROM:-0500
TZOFFSETTO:-0600
END:STANDARD
BEGIN:DAYLIGHT
DTSTART:20270314T010000
TZOFFSETFROM:-0600
TZOFFSETTO:-0500
END:DAYLIGHT
END:VTIMEZONE
BEGIN:VTIMEZONE
TZID:UTC
BEGIN:STANDARD
DTSTART:20250726T035439
TZOFFSETFROM:+0000
TZOFFSETTO:+0000
END:STANDARD
END:VTIMEZONE
BEGIN:VEVENT
UID:69e8467f63824
DTSTAMP:20260422T035439Z
SUMMARY:Surgent's Exploring Business Valuation Fundamentals
URL:https://ms-cpa.org/catalog/events/4341266-surgents-exploring-business-v
 aluation-fundamentals-2027-16-04
DTSTART;TZID=America/Chicago:20270416T130000
DTEND;TZID=America/Chicago:20270416T150000
END:VEVENT
END:VCALENDAR