BEGIN:VCALENDAR
VERSION:2.0
PRODID:spatie/icalendar-generator
NAME:Surgent's U.S. Taxation of Foreign Corporations: A Case Study Approach
X-WR-CALNAME:Surgent's U.S. Taxation of Foreign Corporations: A Case Study 
 Approach
BEGIN:VTIMEZONE
TZID:America/Chicago
BEGIN:STANDARD
DTSTART:20261101T010000
TZOFFSETFROM:-0500
TZOFFSETTO:-0600
END:STANDARD
BEGIN:DAYLIGHT
DTSTART:20270314T010000
TZOFFSETFROM:-0600
TZOFFSETTO:-0500
END:DAYLIGHT
END:VTIMEZONE
BEGIN:VTIMEZONE
TZID:UTC
BEGIN:STANDARD
DTSTART:20250726T040116
TZOFFSETFROM:+0000
TZOFFSETTO:+0000
END:STANDARD
END:VTIMEZONE
BEGIN:VEVENT
UID:69e8480c13322
DTSTAMP:20260422T040116Z
SUMMARY:Surgent's U.S. Taxation of Foreign Corporations: A Case Study Appro
 ach
URL:https://ms-cpa.org/catalog/events/4341212-surgents-us-taxation-of-forei
 gn-corporations-a-case-study-approach-2027-15-04
DTSTART;TZID=America/Chicago:20270415T080000
DTEND;TZID=America/Chicago:20270415T110000
END:VEVENT
END:VCALENDAR