BEGIN:VCALENDAR
VERSION:2.0
PRODID:spatie/icalendar-generator
NAME:Surgent's Top 20 Effective Strategies for Avoiding RMD Mistakes and Pe
 nalties
X-WR-CALNAME:Surgent's Top 20 Effective Strategies for Avoiding RMD Mistake
 s and Penalties
BEGIN:VTIMEZONE
TZID:America/Chicago
BEGIN:STANDARD
DTSTART:20261101T010000
TZOFFSETFROM:-0500
TZOFFSETTO:-0600
END:STANDARD
BEGIN:DAYLIGHT
DTSTART:20270314T010000
TZOFFSETFROM:-0600
TZOFFSETTO:-0500
END:DAYLIGHT
END:VTIMEZONE
BEGIN:VTIMEZONE
TZID:UTC
BEGIN:STANDARD
DTSTART:20250726T035414
TZOFFSETFROM:+0000
TZOFFSETTO:+0000
END:STANDARD
END:VTIMEZONE
BEGIN:VEVENT
UID:69e846665f44a
DTSTAMP:20260422T035414Z
SUMMARY:Surgent's Top 20 Effective Strategies for Avoiding RMD Mistakes and
  Penalties
URL:https://ms-cpa.org/catalog/events/4341205-surgents-top-20-effective-str
 ategies-for-avoiding-rmd-mistakes-and-penalties-2027-15-04
DTSTART;TZID=America/Chicago:20270415T090000
DTEND;TZID=America/Chicago:20270415T110000
END:VEVENT
END:VCALENDAR