BEGIN:VCALENDAR
VERSION:2.0
PRODID:spatie/icalendar-generator
NAME:Surgent's Excel Budgeting Ideas
X-WR-CALNAME:Surgent's Excel Budgeting Ideas
BEGIN:VTIMEZONE
TZID:America/Chicago
BEGIN:STANDARD
DTSTART:20261101T010000
TZOFFSETFROM:-0500
TZOFFSETTO:-0600
END:STANDARD
BEGIN:DAYLIGHT
DTSTART:20270314T010000
TZOFFSETFROM:-0600
TZOFFSETTO:-0500
END:DAYLIGHT
END:VTIMEZONE
BEGIN:VTIMEZONE
TZID:UTC
BEGIN:STANDARD
DTSTART:20250726T035052
TZOFFSETFROM:+0000
TZOFFSETTO:+0000
END:STANDARD
END:VTIMEZONE
BEGIN:VEVENT
UID:69e8459c34616
DTSTAMP:20260422T035052Z
SUMMARY:Surgent's Excel Budgeting Ideas
URL:https://ms-cpa.org/catalog/events/4341166-surgents-excel-budgeting-idea
 s-2027-15-04
DTSTART;TZID=America/Chicago:20270415T140000
DTEND;TZID=America/Chicago:20270415T160000
END:VEVENT
END:VCALENDAR