BEGIN:VCALENDAR
VERSION:2.0
PRODID:spatie/icalendar-generator
NAME:Surgent's Information Security and Privacy
X-WR-CALNAME:Surgent's Information Security and Privacy
BEGIN:VTIMEZONE
TZID:America/Chicago
BEGIN:STANDARD
DTSTART:20261101T010000
TZOFFSETFROM:-0500
TZOFFSETTO:-0600
END:STANDARD
BEGIN:DAYLIGHT
DTSTART:20270314T010000
TZOFFSETFROM:-0600
TZOFFSETTO:-0500
END:DAYLIGHT
END:VTIMEZONE
BEGIN:VTIMEZONE
TZID:UTC
BEGIN:STANDARD
DTSTART:20250726T034647
TZOFFSETFROM:+0000
TZOFFSETTO:+0000
END:STANDARD
END:VTIMEZONE
BEGIN:VEVENT
UID:69e844a72b56f
DTSTAMP:20260422T034647Z
SUMMARY:Surgent's Information Security and Privacy
URL:https://ms-cpa.org/catalog/events/4341123-surgents-information-security
 -and-privacy-2027-14-04
DTSTART;TZID=America/Chicago:20270414T080000
DTEND;TZID=America/Chicago:20270414T100000
END:VEVENT
END:VCALENDAR