BEGIN:VCALENDAR
VERSION:2.0
PRODID:spatie/icalendar-generator
NAME:Surgent's Controllership Skills Update: Risk Management
X-WR-CALNAME:Surgent's Controllership Skills Update: Risk Management
BEGIN:VTIMEZONE
TZID:America/Chicago
BEGIN:STANDARD
DTSTART:20261101T010000
TZOFFSETFROM:-0500
TZOFFSETTO:-0600
END:STANDARD
BEGIN:DAYLIGHT
DTSTART:20270314T010000
TZOFFSETFROM:-0600
TZOFFSETTO:-0500
END:DAYLIGHT
END:VTIMEZONE
BEGIN:VTIMEZONE
TZID:UTC
BEGIN:STANDARD
DTSTART:20250726T035627
TZOFFSETFROM:+0000
TZOFFSETTO:+0000
END:STANDARD
END:VTIMEZONE
BEGIN:VEVENT
UID:69e846eb0bb65
DTSTAMP:20260422T035627Z
SUMMARY:Surgent's Controllership Skills Update: Risk Management
URL:https://ms-cpa.org/catalog/events/4341028-surgents-controllership-skill
 s-update-risk-management-2027-13-04
DTSTART;TZID=America/Chicago:20270413T140000
DTEND;TZID=America/Chicago:20270413T160000
END:VEVENT
END:VCALENDAR