BEGIN:VCALENDAR
VERSION:2.0
PRODID:spatie/icalendar-generator
NAME:Surgent's The CMA’s Guide to Project Management
X-WR-CALNAME:Surgent's The CMA’s Guide to Project Management
BEGIN:VTIMEZONE
TZID:America/Chicago
BEGIN:STANDARD
DTSTART:20261101T010000
TZOFFSETFROM:-0500
TZOFFSETTO:-0600
END:STANDARD
BEGIN:DAYLIGHT
DTSTART:20270314T010000
TZOFFSETFROM:-0600
TZOFFSETTO:-0500
END:DAYLIGHT
END:VTIMEZONE
BEGIN:VTIMEZONE
TZID:UTC
BEGIN:STANDARD
DTSTART:20250726T070604
TZOFFSETFROM:+0000
TZOFFSETTO:+0000
END:STANDARD
END:VTIMEZONE
BEGIN:VEVENT
UID:69e8735c5c6cf
DTSTAMP:20260422T070604Z
SUMMARY:Surgent's The CMA’s Guide to Project Management
URL:https://ms-cpa.org/catalog/events/4340982-surgents-the-cmas-guide-to-pr
 oject-management-2027-12-04
DTSTART;TZID=America/Chicago:20270412T090000
DTEND;TZID=America/Chicago:20270412T110000
END:VEVENT
END:VCALENDAR