BEGIN:VCALENDAR
VERSION:2.0
PRODID:spatie/icalendar-generator
NAME:Surgent's Mastering Accounting for Income Taxes
X-WR-CALNAME:Surgent's Mastering Accounting for Income Taxes
BEGIN:VTIMEZONE
TZID:America/Chicago
BEGIN:STANDARD
DTSTART:20261101T010000
TZOFFSETFROM:-0500
TZOFFSETTO:-0600
END:STANDARD
BEGIN:DAYLIGHT
DTSTART:20270314T010000
TZOFFSETFROM:-0600
TZOFFSETTO:-0500
END:DAYLIGHT
END:VTIMEZONE
BEGIN:VTIMEZONE
TZID:UTC
BEGIN:STANDARD
DTSTART:20250726T035311
TZOFFSETFROM:+0000
TZOFFSETTO:+0000
END:STANDARD
END:VTIMEZONE
BEGIN:VEVENT
UID:69e84627cf27d
DTSTAMP:20260422T035311Z
SUMMARY:Surgent's Mastering Accounting for Income Taxes
URL:https://ms-cpa.org/catalog/events/4340914-surgents-mastering-accounting
 -for-income-taxes-2027-12-04
DTSTART;TZID=America/Chicago:20270412T080000
DTEND;TZID=America/Chicago:20270412T120000
END:VEVENT
END:VCALENDAR