BEGIN:VCALENDAR
VERSION:2.0
PRODID:spatie/icalendar-generator
NAME:Surgent's Data Analytics Toolkit – Tools and Applications
X-WR-CALNAME:Surgent's Data Analytics Toolkit – Tools and Applications
BEGIN:VTIMEZONE
TZID:America/Chicago
BEGIN:STANDARD
DTSTART:20261101T010000
TZOFFSETFROM:-0500
TZOFFSETTO:-0600
END:STANDARD
BEGIN:DAYLIGHT
DTSTART:20270314T010000
TZOFFSETFROM:-0600
TZOFFSETTO:-0500
END:DAYLIGHT
END:VTIMEZONE
BEGIN:VTIMEZONE
TZID:UTC
BEGIN:STANDARD
DTSTART:20250726T034927
TZOFFSETFROM:+0000
TZOFFSETTO:+0000
END:STANDARD
END:VTIMEZONE
BEGIN:VEVENT
UID:69e84547cd055
DTSTAMP:20260422T034927Z
SUMMARY:Surgent's Data Analytics Toolkit – Tools and Applications
URL:https://ms-cpa.org/catalog/events/4340769-surgents-data-analytics-toolk
 it-tools-and-applications-2027-08-04
DTSTART;TZID=America/Chicago:20270408T110000
DTEND;TZID=America/Chicago:20270408T130000
END:VEVENT
END:VCALENDAR