BEGIN:VCALENDAR
VERSION:2.0
PRODID:spatie/icalendar-generator
NAME:Surgent's Progressive Discipline and Termination
X-WR-CALNAME:Surgent's Progressive Discipline and Termination
BEGIN:VTIMEZONE
TZID:America/Chicago
BEGIN:STANDARD
DTSTART:20261101T010000
TZOFFSETFROM:-0500
TZOFFSETTO:-0600
END:STANDARD
BEGIN:DAYLIGHT
DTSTART:20270314T010000
TZOFFSETFROM:-0600
TZOFFSETTO:-0500
END:DAYLIGHT
END:VTIMEZONE
BEGIN:VTIMEZONE
TZID:UTC
BEGIN:STANDARD
DTSTART:20250726T035052
TZOFFSETFROM:+0000
TZOFFSETTO:+0000
END:STANDARD
END:VTIMEZONE
BEGIN:VEVENT
UID:69e8459caf45e
DTSTAMP:20260422T035052Z
SUMMARY:Surgent's Progressive Discipline and Termination
URL:https://ms-cpa.org/catalog/events/4340706-surgents-progressive-discipli
 ne-and-termination-2027-07-04
DTSTART;TZID=America/Chicago:20270407T120000
DTEND;TZID=America/Chicago:20270407T140000
END:VEVENT
END:VCALENDAR