BEGIN:VCALENDAR
VERSION:2.0
PRODID:spatie/icalendar-generator
NAME:Surgent's Improving Your Profits: Identifying Cost Cutting Opportuniti
 es
X-WR-CALNAME:Surgent's Improving Your Profits: Identifying Cost Cutting Opp
 ortunities
BEGIN:VTIMEZONE
TZID:America/Chicago
BEGIN:STANDARD
DTSTART:20261101T010000
TZOFFSETFROM:-0500
TZOFFSETTO:-0600
END:STANDARD
BEGIN:DAYLIGHT
DTSTART:20270314T010000
TZOFFSETFROM:-0600
TZOFFSETTO:-0500
END:DAYLIGHT
END:VTIMEZONE
BEGIN:VTIMEZONE
TZID:UTC
BEGIN:STANDARD
DTSTART:20250726T040039
TZOFFSETFROM:+0000
TZOFFSETTO:+0000
END:STANDARD
END:VTIMEZONE
BEGIN:VEVENT
UID:69e847e79472e
DTSTAMP:20260422T040039Z
SUMMARY:Surgent's Improving Your Profits: Identifying Cost Cutting Opportun
 ities
URL:https://ms-cpa.org/catalog/events/4340698-surgents-improving-your-profi
 ts-identifying-cost-cutting-opportunities-2027-07-04
DTSTART;TZID=America/Chicago:20270407T130000
DTEND;TZID=America/Chicago:20270407T150000
END:VEVENT
END:VCALENDAR