BEGIN:VCALENDAR
VERSION:2.0
PRODID:spatie/icalendar-generator
NAME:Surgent's Autonomous Agents in Audit and Assurance
X-WR-CALNAME:Surgent's Autonomous Agents in Audit and Assurance
BEGIN:VTIMEZONE
TZID:America/Chicago
BEGIN:STANDARD
DTSTART:20261101T010000
TZOFFSETFROM:-0500
TZOFFSETTO:-0600
END:STANDARD
BEGIN:DAYLIGHT
DTSTART:20270314T010000
TZOFFSETFROM:-0600
TZOFFSETTO:-0500
END:DAYLIGHT
END:VTIMEZONE
BEGIN:VTIMEZONE
TZID:UTC
BEGIN:STANDARD
DTSTART:20250726T035306
TZOFFSETFROM:+0000
TZOFFSETTO:+0000
END:STANDARD
END:VTIMEZONE
BEGIN:VEVENT
UID:69e84622bc26d
DTSTAMP:20260422T035306Z
SUMMARY:Surgent's Autonomous Agents in Audit and Assurance
URL:https://ms-cpa.org/catalog/events/4340624-surgents-autonomous-agents-in
 -audit-and-assurance-2027-07-04
DTSTART;TZID=America/Chicago:20270407T080000
DTEND;TZID=America/Chicago:20270407T100000
END:VEVENT
END:VCALENDAR