BEGIN:VCALENDAR
VERSION:2.0
PRODID:spatie/icalendar-generator
NAME:Surgent's Lessons Learned from Successful Companies
X-WR-CALNAME:Surgent's Lessons Learned from Successful Companies
BEGIN:VTIMEZONE
TZID:America/Chicago
BEGIN:STANDARD
DTSTART:20261101T010000
TZOFFSETFROM:-0500
TZOFFSETTO:-0600
END:STANDARD
BEGIN:DAYLIGHT
DTSTART:20270314T010000
TZOFFSETFROM:-0600
TZOFFSETTO:-0500
END:DAYLIGHT
END:VTIMEZONE
BEGIN:VTIMEZONE
TZID:UTC
BEGIN:STANDARD
DTSTART:20250726T035718
TZOFFSETFROM:+0000
TZOFFSETTO:+0000
END:STANDARD
END:VTIMEZONE
BEGIN:VEVENT
UID:69e8471ec1a23
DTSTAMP:20260422T035718Z
SUMMARY:Surgent's Lessons Learned from Successful Companies
URL:https://ms-cpa.org/catalog/events/4340599-surgents-lessons-learned-from
 -successful-companies-2027-06-04
DTSTART;TZID=America/Chicago:20270406T110000
DTEND;TZID=America/Chicago:20270406T130000
END:VEVENT
END:VCALENDAR