BEGIN:VCALENDAR
VERSION:2.0
PRODID:spatie/icalendar-generator
NAME:Surgent's Privacy and Security Training: Obligations of Confidentialit
 y and Safekeeping
X-WR-CALNAME:Surgent's Privacy and Security Training: Obligations of Confid
 entiality and Safekeeping
BEGIN:VTIMEZONE
TZID:America/Chicago
BEGIN:STANDARD
DTSTART:20261101T010000
TZOFFSETFROM:-0500
TZOFFSETTO:-0600
END:STANDARD
BEGIN:DAYLIGHT
DTSTART:20270314T010000
TZOFFSETFROM:-0600
TZOFFSETTO:-0500
END:DAYLIGHT
END:VTIMEZONE
BEGIN:VTIMEZONE
TZID:UTC
BEGIN:STANDARD
DTSTART:20250726T035506
TZOFFSETFROM:+0000
TZOFFSETTO:+0000
END:STANDARD
END:VTIMEZONE
BEGIN:VEVENT
UID:69e8469ab4c65
DTSTAMP:20260422T035506Z
SUMMARY:Surgent's Privacy and Security Training: Obligations of Confidentia
 lity and Safekeeping
URL:https://ms-cpa.org/catalog/events/4340415-surgents-privacy-and-security
 -training-obligations-of-confidentiality-and-safekeeping-2027-02-04
DTSTART;TZID=America/Chicago:20270402T090000
DTEND;TZID=America/Chicago:20270402T110000
END:VEVENT
END:VCALENDAR