BEGIN:VCALENDAR
VERSION:2.0
PRODID:spatie/icalendar-generator
NAME:Surgent's Capital Assets: Basis and Taxation for Financial Professiona
 ls
X-WR-CALNAME:Surgent's Capital Assets: Basis and Taxation for Financial Pro
 fessionals
BEGIN:VTIMEZONE
TZID:America/Chicago
BEGIN:STANDARD
DTSTART:20261101T010000
TZOFFSETFROM:-0500
TZOFFSETTO:-0600
END:STANDARD
BEGIN:DAYLIGHT
DTSTART:20270314T010000
TZOFFSETFROM:-0600
TZOFFSETTO:-0500
END:DAYLIGHT
END:VTIMEZONE
BEGIN:VTIMEZONE
TZID:UTC
BEGIN:STANDARD
DTSTART:20250726T040228
TZOFFSETFROM:+0000
TZOFFSETTO:+0000
END:STANDARD
END:VTIMEZONE
BEGIN:VEVENT
UID:69e8485412746
DTSTAMP:20260422T040228Z
SUMMARY:Surgent's Capital Assets: Basis and Taxation for Financial Professi
 onals
URL:https://ms-cpa.org/catalog/events/4340393-surgents-capital-assets-basis
 -and-taxation-for-financial-professionals-2027-02-04
DTSTART;TZID=America/Chicago:20270402T090000
DTEND;TZID=America/Chicago:20270402T110000
END:VEVENT
END:VCALENDAR