BEGIN:VCALENDAR
VERSION:2.0
PRODID:spatie/icalendar-generator
NAME:Surgent's Agentic AI Foundations for Finance and Accounting
X-WR-CALNAME:Surgent's Agentic AI Foundations for Finance and Accounting
BEGIN:VTIMEZONE
TZID:America/Chicago
BEGIN:STANDARD
DTSTART:20261101T010000
TZOFFSETFROM:-0500
TZOFFSETTO:-0600
END:STANDARD
BEGIN:DAYLIGHT
DTSTART:20270314T010000
TZOFFSETFROM:-0600
TZOFFSETTO:-0500
END:DAYLIGHT
END:VTIMEZONE
BEGIN:VTIMEZONE
TZID:UTC
BEGIN:STANDARD
DTSTART:20250726T035337
TZOFFSETFROM:+0000
TZOFFSETTO:+0000
END:STANDARD
END:VTIMEZONE
BEGIN:VEVENT
UID:69e84641602cd
DTSTAMP:20260422T035337Z
SUMMARY:Surgent's Agentic AI Foundations for Finance and Accounting
URL:https://ms-cpa.org/catalog/events/4340388-surgents-agentic-ai-foundatio
 ns-for-finance-and-accounting-2027-02-04
DTSTART;TZID=America/Chicago:20270402T120000
DTEND;TZID=America/Chicago:20270402T140000
END:VEVENT
END:VCALENDAR