BEGIN:VCALENDAR
VERSION:2.0
PRODID:spatie/icalendar-generator
NAME:Surgent's IT Systems and Data Management
X-WR-CALNAME:Surgent's IT Systems and Data Management
BEGIN:VTIMEZONE
TZID:America/Chicago
BEGIN:STANDARD
DTSTART:20261101T010000
TZOFFSETFROM:-0500
TZOFFSETTO:-0600
END:STANDARD
BEGIN:DAYLIGHT
DTSTART:20270314T010000
TZOFFSETFROM:-0600
TZOFFSETTO:-0500
END:DAYLIGHT
END:VTIMEZONE
BEGIN:VTIMEZONE
TZID:UTC
BEGIN:STANDARD
DTSTART:20250726T034722
TZOFFSETFROM:+0000
TZOFFSETTO:+0000
END:STANDARD
END:VTIMEZONE
BEGIN:VEVENT
UID:69e844ca5e865
DTSTAMP:20260422T034722Z
SUMMARY:Surgent's IT Systems and Data Management
URL:https://ms-cpa.org/catalog/events/4340315-surgents-it-systems-and-data-
 management-2027-01-04
DTSTART;TZID=America/Chicago:20270401T110000
DTEND;TZID=America/Chicago:20270401T130000
END:VEVENT
END:VCALENDAR