BEGIN:VCALENDAR
VERSION:2.0
PRODID:spatie/icalendar-generator
NAME:Surgent's Applying ASC 820: The Basics of Fair Value Accounting
X-WR-CALNAME:Surgent's Applying ASC 820: The Basics of Fair Value Accountin
 g
BEGIN:VTIMEZONE
TZID:America/Chicago
BEGIN:STANDARD
DTSTART:20261101T010000
TZOFFSETFROM:-0500
TZOFFSETTO:-0600
END:STANDARD
BEGIN:DAYLIGHT
DTSTART:20270314T010000
TZOFFSETFROM:-0600
TZOFFSETTO:-0500
END:DAYLIGHT
END:VTIMEZONE
BEGIN:VTIMEZONE
TZID:UTC
BEGIN:STANDARD
DTSTART:20250726T035942
TZOFFSETFROM:+0000
TZOFFSETTO:+0000
END:STANDARD
END:VTIMEZONE
BEGIN:VEVENT
UID:69e847ae6d4cd
DTSTAMP:20260422T035942Z
SUMMARY:Surgent's Applying ASC 820: The Basics of Fair Value Accounting
URL:https://ms-cpa.org/catalog/events/4340301-surgents-applying-asc-820-the
 -basics-of-fair-value-accounting-2027-01-04
DTSTART;TZID=America/Chicago:20270401T120000
DTEND;TZID=America/Chicago:20270401T160000
END:VEVENT
END:VCALENDAR