BEGIN:VCALENDAR
VERSION:2.0
PRODID:spatie/icalendar-generator
NAME:Surgent's Excel for Accountants: Using Excel to Cleanse and Prepare Da
 ta
X-WR-CALNAME:Surgent's Excel for Accountants: Using Excel to Cleanse and Pr
 epare Data
BEGIN:VTIMEZONE
TZID:America/Chicago
BEGIN:STANDARD
DTSTART:20261101T010000
TZOFFSETFROM:-0500
TZOFFSETTO:-0600
END:STANDARD
BEGIN:DAYLIGHT
DTSTART:20270314T010000
TZOFFSETFROM:-0600
TZOFFSETTO:-0500
END:DAYLIGHT
END:VTIMEZONE
BEGIN:VTIMEZONE
TZID:UTC
BEGIN:STANDARD
DTSTART:20250726T035626
TZOFFSETFROM:+0000
TZOFFSETTO:+0000
END:STANDARD
END:VTIMEZONE
BEGIN:VEVENT
UID:69e846ead2342
DTSTAMP:20260422T035626Z
SUMMARY:Surgent's Excel for Accountants: Using Excel to Cleanse and Prepare
  Data
URL:https://ms-cpa.org/catalog/events/4339962-surgents-excel-for-accountant
 s-using-excel-to-cleanse-and-prepare-data-2027-26-03
DTSTART;TZID=America/Chicago:20270326T090000
DTEND;TZID=America/Chicago:20270326T110000
END:VEVENT
END:VCALENDAR