BEGIN:VCALENDAR
VERSION:2.0
PRODID:spatie/icalendar-generator
NAME:Surgent's Client Advisory Services (CAS): A Guide to the Variety of Of
 ferings Professionals Can Provide
X-WR-CALNAME:Surgent's Client Advisory Services (CAS): A Guide to the Varie
 ty of Offerings Professionals Can Provide
BEGIN:VTIMEZONE
TZID:America/Chicago
BEGIN:STANDARD
DTSTART:20261101T010000
TZOFFSETFROM:-0500
TZOFFSETTO:-0600
END:STANDARD
BEGIN:DAYLIGHT
DTSTART:20270314T010000
TZOFFSETFROM:-0600
TZOFFSETTO:-0500
END:DAYLIGHT
END:VTIMEZONE
BEGIN:VTIMEZONE
TZID:UTC
BEGIN:STANDARD
DTSTART:20250726T040039
TZOFFSETFROM:+0000
TZOFFSETTO:+0000
END:STANDARD
END:VTIMEZONE
BEGIN:VEVENT
UID:69e847e7692ac
DTSTAMP:20260422T040039Z
SUMMARY:Surgent's Client Advisory Services (CAS): A Guide to the Variety of
  Offerings Professionals Can Provide
URL:https://ms-cpa.org/catalog/events/4339914-surgents-client-advisory-serv
 ices-cas-a-guide-to-the-variety-of-offerings-professionals-can-provide-202
 7-26-03
DTSTART;TZID=America/Chicago:20270326T120000
DTEND;TZID=America/Chicago:20270326T140000
END:VEVENT
END:VCALENDAR