BEGIN:VCALENDAR
VERSION:2.0
PRODID:spatie/icalendar-generator
NAME:Surgent's Enterprise Risk Management Concepts and Strategy for Small a
 nd Medium-Sized Companies
X-WR-CALNAME:Surgent's Enterprise Risk Management Concepts and Strategy for
  Small and Medium-Sized Companies
BEGIN:VTIMEZONE
TZID:America/Chicago
BEGIN:STANDARD
DTSTART:20261101T010000
TZOFFSETFROM:-0500
TZOFFSETTO:-0600
END:STANDARD
BEGIN:DAYLIGHT
DTSTART:20270314T010000
TZOFFSETFROM:-0600
TZOFFSETTO:-0500
END:DAYLIGHT
END:VTIMEZONE
BEGIN:VTIMEZONE
TZID:UTC
BEGIN:STANDARD
DTSTART:20250726T035857
TZOFFSETFROM:+0000
TZOFFSETTO:+0000
END:STANDARD
END:VTIMEZONE
BEGIN:VEVENT
UID:69e8478191acc
DTSTAMP:20260422T035857Z
SUMMARY:Surgent's Enterprise Risk Management Concepts and Strategy for Smal
 l and Medium-Sized Companies
URL:https://ms-cpa.org/catalog/events/4339878-surgents-enterprise-risk-mana
 gement-concepts-and-strategy-for-small-and-medium-sized-companies-2027-25-
 03
DTSTART;TZID=America/Chicago:20270325T123000
DTEND;TZID=America/Chicago:20270325T163000
END:VEVENT
END:VCALENDAR