BEGIN:VCALENDAR
VERSION:2.0
PRODID:spatie/icalendar-generator
NAME:Surgent's Business Writing: Professional & Effective Emails
X-WR-CALNAME:Surgent's Business Writing: Professional & Effective Emails
BEGIN:VTIMEZONE
TZID:America/Chicago
BEGIN:STANDARD
DTSTART:20261101T010000
TZOFFSETFROM:-0500
TZOFFSETTO:-0600
END:STANDARD
BEGIN:DAYLIGHT
DTSTART:20270314T010000
TZOFFSETFROM:-0600
TZOFFSETTO:-0500
END:DAYLIGHT
END:VTIMEZONE
BEGIN:VTIMEZONE
TZID:UTC
BEGIN:STANDARD
DTSTART:20250726T061416
TZOFFSETFROM:+0000
TZOFFSETTO:+0000
END:STANDARD
END:VTIMEZONE
BEGIN:VEVENT
UID:69e867384440c
DTSTAMP:20260422T061416Z
SUMMARY:Surgent's Business Writing: Professional & Effective Emails
URL:https://ms-cpa.org/catalog/events/4339845-surgents-business-writing-pro
 fessional-effective-emails-2027-25-03
DTSTART;TZID=America/Chicago:20270325T090000
DTEND;TZID=America/Chicago:20270325T110000
END:VEVENT
END:VCALENDAR