BEGIN:VCALENDAR
VERSION:2.0
PRODID:spatie/icalendar-generator
NAME:Surgent's Public Speaking and Presentation Skills
X-WR-CALNAME:Surgent's Public Speaking and Presentation Skills
BEGIN:VTIMEZONE
TZID:America/Chicago
BEGIN:STANDARD
DTSTART:20261101T010000
TZOFFSETFROM:-0500
TZOFFSETTO:-0600
END:STANDARD
BEGIN:DAYLIGHT
DTSTART:20270314T010000
TZOFFSETFROM:-0600
TZOFFSETTO:-0500
END:DAYLIGHT
END:VTIMEZONE
BEGIN:VTIMEZONE
TZID:UTC
BEGIN:STANDARD
DTSTART:20250726T035942
TZOFFSETFROM:+0000
TZOFFSETTO:+0000
END:STANDARD
END:VTIMEZONE
BEGIN:VEVENT
UID:69e847aed47ab
DTSTAMP:20260422T035942Z
SUMMARY:Surgent's Public Speaking and Presentation Skills
URL:https://ms-cpa.org/catalog/events/4339629-surgents-public-speaking-and-
 presentation-skills-2027-23-03
DTSTART;TZID=America/Chicago:20270323T120000
DTEND;TZID=America/Chicago:20270323T140000
END:VEVENT
END:VCALENDAR