BEGIN:VCALENDAR
VERSION:2.0
PRODID:spatie/icalendar-generator
NAME:Surgent's The AI-augmented Professional: Practical Tools\, Real Risks\
 , and Immediate Use Cases
X-WR-CALNAME:Surgent's The AI-augmented Professional: Practical Tools\, Rea
 l Risks\, and Immediate Use Cases
BEGIN:VTIMEZONE
TZID:America/Chicago
BEGIN:STANDARD
DTSTART:20261101T010000
TZOFFSETFROM:-0500
TZOFFSETTO:-0600
END:STANDARD
BEGIN:DAYLIGHT
DTSTART:20270314T010000
TZOFFSETFROM:-0600
TZOFFSETTO:-0500
END:DAYLIGHT
END:VTIMEZONE
BEGIN:VTIMEZONE
TZID:UTC
BEGIN:STANDARD
DTSTART:20250726T035304
TZOFFSETFROM:+0000
TZOFFSETTO:+0000
END:STANDARD
END:VTIMEZONE
BEGIN:VEVENT
UID:69e84620ce05f
DTSTAMP:20260422T035304Z
SUMMARY:Surgent's The AI-augmented Professional: Practical Tools\, Real Ris
 ks\, and Immediate Use Cases
URL:https://ms-cpa.org/catalog/events/4339596-surgents-the-ai-augmented-pro
 fessional-practical-tools-real-risks-and-immediate-use-cases-2027-23-03
DTSTART;TZID=America/Chicago:20270323T090000
DTEND;TZID=America/Chicago:20270323T110000
END:VEVENT
END:VCALENDAR