BEGIN:VCALENDAR
VERSION:2.0
PRODID:spatie/icalendar-generator
NAME:Surgent's A Complete Guide to Reporting Form 1099-DA
X-WR-CALNAME:Surgent's A Complete Guide to Reporting Form 1099-DA
BEGIN:VTIMEZONE
TZID:America/Chicago
BEGIN:STANDARD
DTSTART:20261101T010000
TZOFFSETFROM:-0500
TZOFFSETTO:-0600
END:STANDARD
BEGIN:DAYLIGHT
DTSTART:20270314T010000
TZOFFSETFROM:-0600
TZOFFSETTO:-0500
END:DAYLIGHT
END:VTIMEZONE
BEGIN:VTIMEZONE
TZID:UTC
BEGIN:STANDARD
DTSTART:20250726T035459
TZOFFSETFROM:+0000
TZOFFSETTO:+0000
END:STANDARD
END:VTIMEZONE
BEGIN:VEVENT
UID:69e84693891ef
DTSTAMP:20260422T035459Z
SUMMARY:Surgent's A Complete Guide to Reporting Form 1099-DA
URL:https://ms-cpa.org/catalog/events/4339551-surgents-a-complete-guide-to-
 reporting-form-1099-da-2027-22-03
DTSTART;TZID=America/Chicago:20270322T090000
DTEND;TZID=America/Chicago:20270322T110000
END:VEVENT
END:VCALENDAR