BEGIN:VCALENDAR
VERSION:2.0
PRODID:spatie/icalendar-generator
NAME:Surgent's AI and Data Ethics in Accounting
X-WR-CALNAME:Surgent's AI and Data Ethics in Accounting
BEGIN:VTIMEZONE
TZID:America/Chicago
BEGIN:STANDARD
DTSTART:20261101T010000
TZOFFSETFROM:-0500
TZOFFSETTO:-0600
END:STANDARD
BEGIN:DAYLIGHT
DTSTART:20270314T010000
TZOFFSETFROM:-0600
TZOFFSETTO:-0500
END:DAYLIGHT
END:VTIMEZONE
BEGIN:VTIMEZONE
TZID:UTC
BEGIN:STANDARD
DTSTART:20250726T035500
TZOFFSETFROM:+0000
TZOFFSETTO:+0000
END:STANDARD
END:VTIMEZONE
BEGIN:VEVENT
UID:69e8469472569
DTSTAMP:20260422T035500Z
SUMMARY:Surgent's AI and Data Ethics in Accounting
URL:https://ms-cpa.org/catalog/events/4339444-surgents-ai-and-data-ethics-i
 n-accounting-2027-19-03
DTSTART;TZID=America/Chicago:20270319T080000
DTEND;TZID=America/Chicago:20270319T100000
END:VEVENT
END:VCALENDAR