BEGIN:VCALENDAR
VERSION:2.0
PRODID:spatie/icalendar-generator
NAME:Surgent's Ethical Considerations for CPAs
X-WR-CALNAME:Surgent's Ethical Considerations for CPAs
BEGIN:VTIMEZONE
TZID:America/Chicago
BEGIN:STANDARD
DTSTART:20261101T010000
TZOFFSETFROM:-0500
TZOFFSETTO:-0600
END:STANDARD
BEGIN:DAYLIGHT
DTSTART:20270314T010000
TZOFFSETFROM:-0600
TZOFFSETTO:-0500
END:DAYLIGHT
END:VTIMEZONE
BEGIN:VTIMEZONE
TZID:UTC
BEGIN:STANDARD
DTSTART:20250726T034721
TZOFFSETFROM:+0000
TZOFFSETTO:+0000
END:STANDARD
END:VTIMEZONE
BEGIN:VEVENT
UID:69e844c9d8bff
DTSTAMP:20260422T034721Z
SUMMARY:Surgent's Ethical Considerations for CPAs
URL:https://ms-cpa.org/catalog/events/4339433-surgents-ethical-consideratio
 ns-for-cpas-2027-19-03
DTSTART;TZID=America/Chicago:20270319T140000
DTEND;TZID=America/Chicago:20270319T160000
END:VEVENT
END:VCALENDAR