BEGIN:VCALENDAR
VERSION:2.0
PRODID:spatie/icalendar-generator
NAME:Surgent's Trump Accounts Created by OBBBA: A Comprehensive Guide for A
 ccounting and Finance Professionals
X-WR-CALNAME:Surgent's Trump Accounts Created by OBBBA: A Comprehensive Gui
 de for Accounting and Finance Professionals
BEGIN:VTIMEZONE
TZID:America/Chicago
BEGIN:STANDARD
DTSTART:20261101T010000
TZOFFSETFROM:-0500
TZOFFSETTO:-0600
END:STANDARD
BEGIN:DAYLIGHT
DTSTART:20270314T010000
TZOFFSETFROM:-0600
TZOFFSETTO:-0500
END:DAYLIGHT
END:VTIMEZONE
BEGIN:VTIMEZONE
TZID:UTC
BEGIN:STANDARD
DTSTART:20250726T040116
TZOFFSETFROM:+0000
TZOFFSETTO:+0000
END:STANDARD
END:VTIMEZONE
BEGIN:VEVENT
UID:69e8480c8224a
DTSTAMP:20260422T040116Z
SUMMARY:Surgent's Trump Accounts Created by OBBBA: A Comprehensive Guide fo
 r Accounting and Finance Professionals
URL:https://ms-cpa.org/catalog/events/4339346-surgents-trump-accounts-creat
 ed-by-obbba-a-comprehensive-guide-for-accounting-and-finance-professionals
 -2027-18-03
DTSTART;TZID=America/Chicago:20270318T090000
DTEND;TZID=America/Chicago:20270318T110000
END:VEVENT
END:VCALENDAR