BEGIN:VCALENDAR
VERSION:2.0
PRODID:spatie/icalendar-generator
NAME:Surgent's Privacy and Security Training: Obligations of Confidentialit
 y and Safekeeping
X-WR-CALNAME:Surgent's Privacy and Security Training: Obligations of Confid
 entiality and Safekeeping
BEGIN:VTIMEZONE
TZID:America/Chicago
BEGIN:STANDARD
DTSTART:20261101T010000
TZOFFSETFROM:-0500
TZOFFSETTO:-0600
END:STANDARD
BEGIN:DAYLIGHT
DTSTART:20270314T010000
TZOFFSETFROM:-0600
TZOFFSETTO:-0500
END:DAYLIGHT
END:VTIMEZONE
BEGIN:VTIMEZONE
TZID:UTC
BEGIN:STANDARD
DTSTART:20250726T040308
TZOFFSETFROM:+0000
TZOFFSETTO:+0000
END:STANDARD
END:VTIMEZONE
BEGIN:VEVENT
UID:69e8487ca6b53
DTSTAMP:20260422T040308Z
SUMMARY:Surgent's Privacy and Security Training: Obligations of Confidentia
 lity and Safekeeping
URL:https://ms-cpa.org/catalog/events/4339288-surgents-privacy-and-security
 -training-obligations-of-confidentiality-and-safekeeping-2027-18-03
DTSTART;TZID=America/Chicago:20270318T130000
DTEND;TZID=America/Chicago:20270318T150000
END:VEVENT
END:VCALENDAR