BEGIN:VCALENDAR
VERSION:2.0
PRODID:spatie/icalendar-generator
NAME:Surgent's Controllership Skills Update: Mergers\, Acquisitions\, and A
 lliances
X-WR-CALNAME:Surgent's Controllership Skills Update: Mergers\, Acquisitions
 \, and Alliances
BEGIN:VTIMEZONE
TZID:America/Chicago
BEGIN:STANDARD
DTSTART:20261101T010000
TZOFFSETFROM:-0500
TZOFFSETTO:-0600
END:STANDARD
BEGIN:DAYLIGHT
DTSTART:20270314T010000
TZOFFSETFROM:-0600
TZOFFSETTO:-0500
END:DAYLIGHT
END:VTIMEZONE
BEGIN:VTIMEZONE
TZID:UTC
BEGIN:STANDARD
DTSTART:20250726T035542
TZOFFSETFROM:+0000
TZOFFSETTO:+0000
END:STANDARD
END:VTIMEZONE
BEGIN:VEVENT
UID:69e846be99e7d
DTSTAMP:20260422T035542Z
SUMMARY:Surgent's Controllership Skills Update: Mergers\, Acquisitions\, an
 d Alliances
URL:https://ms-cpa.org/catalog/events/4339220-surgents-controllership-skill
 s-update-mergers-acquisitions-and-alliances-2027-18-03
DTSTART;TZID=America/Chicago:20270318T120000
DTEND;TZID=America/Chicago:20270318T140000
END:VEVENT
END:VCALENDAR